BEGIN:VCALENDAR
VERSION:2.0
PRODID:-//jEvents 2.0 for Joomla//EN
CALSCALE:GREGORIAN
METHOD:PUBLISH
BEGIN:VEVENT
UID:5sgi7llf5d937ene1p4j1uhl8f@google.com
CATEGORIES:Gemeindehaus "Probstei"
CREATED:19700101T010000
SUMMARY:Kirchenchor Probe
DESCRIPTION:-::~:~::~:~:~:~:~:~:~:~:~:~:~:~:~:~:~:~:~:~:~:~:~:~:~:~:~:~:~:~:~:~:~:~:~:~
 :~:~::~:~::-\nJoin with Google Meet: https://meet.google.com/bxs-cupf-zty (
 https://meet.google.com/bxs-cupf-zty)\n\nLearn more about Meet at: https://
 support.google.com/a/users/answer/9282720 (https://support.google.com/a/use
 rs/answer/9282720)\n\nPlease do not edit this section.\n-::~:~::~:~:~:~:~:~
 :~:~:~:~:~:~:~:~:~:~:~:~:~:~:~:~:~:~:~:~:~:~:~:~:~:~:~:~:~:~::~:~::-
X-ALT-DESC;FMTTYPE=text/html:-::~:~::~:~:~:~:~:~:~:~:~:~:~:~:~:~:~:~:~:~:~:~:~:~:~:~:~:~:~:~:~:~:~:~:~:~
 :~:~::~:~::-<br/>Join with Google Meet: <a href="https://meet.google.com/bx
 s-cupf-zty">https://meet.google.com/bxs-cupf-zty</a><br/><br/>Learn more ab
 out Meet at: <a href="https://support.google.com/a/users/answer/9282720">ht
 tps://support.google.com/a/users/answer/9282720</a><br/><br/>Please do not 
 edit this section.<br/>-::~:~::~:~:~:~:~:~:~:~:~:~:~:~:~:~:~:~:~:~:~:~:~:~:
 ~:~:~:~:~:~:~:~:~:~:~:~:~:~::~:~::-
DTSTAMP:20260425T160027
DTSTART:20221117T180000
DTEND:20221117T210000
SEQUENCE:0
RRULE:FREQ=WEEKLY;UNTIL=20291213T000000Z;INTERVAL=1;BYDAY=TH
TRANSP:OPAQUE
END:VEVENT
END:VCALENDAR