BEGIN:VCALENDAR
VERSION:2.0
PRODID:-//jEvents 2.0 for Joomla//EN
CALSCALE:GREGORIAN
METHOD:PUBLISH
BEGIN:VEVENT
UID:6s054pdjlms44njp3et203q7fl_R20191105T180000@google.com
CATEGORIES:Gemeindehaus "Probstei"
CREATED:19700101T010000
SUMMARY:Gelber Raum: Gemeinderatssitzung
LOCATION:Gelber Raum: Gemeinderatssitzung
DESCRIPTION:Monatliche Gemeinderatssitzung
DTSTAMP:20260425T164417
DTSTART:20191105T180000
DTEND:20191105T220000
SEQUENCE:0
RRULE:FREQ=MONTHLY;UNTIL=20291213T000000Z;INTERVAL=1;BYDAY=1TU
TRANSP:OPAQUE
END:VEVENT
END:VCALENDAR