BEGIN:VCALENDAR
VERSION:2.0
PRODID:-//jEvents 2.0 for Joomla//EN
CALSCALE:GREGORIAN
METHOD:PUBLISH
BEGIN:VEVENT
UID:4u27t1nisabf5b89omuk52ia91@google.com
CATEGORIES:Gemeindehaus "Probstei"
CREATED:19700101T010000
SUMMARY:Ton Art Probe 
LOCATION:Roter Raum
DESCRIPTION:
DTSTAMP:20260425T161528
DTSTART:20200304T180000
DTEND:20200304T200000
SEQUENCE:0
RRULE:FREQ=WEEKLY;UNTIL=20291213T000000Z;INTERVAL=1;BYDAY=WE
TRANSP:OPAQUE
END:VEVENT
END:VCALENDAR