BEGIN:VCALENDAR
VERSION:2.0
PRODID:-//jEvents 2.0 for Joomla//EN
CALSCALE:GREGORIAN
METHOD:PUBLISH
BEGIN:VEVENT
UID:40j5rhjblq5lsj67ueobjlhluh@google.com
CATEGORIES:Gemeindehaus "Probstei"
CREATED:19700101T010000
SUMMARY:DA,   Nähen mit Sabine
LOCATION:Gelber Raum
DESCRIPTION:DA,  Nähen mit Sabine  alle 14 Tage
DTSTAMP:20260425T155058
DTSTART:20200311T170000
DTEND:20200311T210000
SEQUENCE:0
RRULE:FREQ=WEEKLY;UNTIL=20291213T000000Z;INTERVAL=2;BYDAY=WE
TRANSP:OPAQUE
END:VEVENT
END:VCALENDAR