BEGIN:VCALENDAR
VERSION:2.0
PRODID:-//jEvents 2.0 for Joomla//EN
CALSCALE:GREGORIAN
METHOD:PUBLISH
BEGIN:VEVENT
UID:ef57funlc7q4sd14md5oljdj4c_R20230911T160000@google.com
CATEGORIES:Gemeindehaus "Probstei"
CREATED:19700101T010000
SUMMARY:HKV Probe Kleine Funken
LOCATION:Roter Raum
DESCRIPTION:-::~:~::~:~:~:~:~:~:~:~:~:~:~:~:~:~:~:~:~:~:~:~:~:~:~:~:~:~:~:~:~:~:~:~:~:~
 :~:~::~:~::-<br/>Join with Google Meet: <a href="https://meet.google.com/gd
 s-rzkx-xdj">https://meet.google.com/gds-rzkx-xdj</a><br/><br/>Learn more ab
 out Meet at: <a href="https://support.google.com/a/users/answer/9282720">ht
 tps://support.google.com/a/users/answer/9282720</a><br/><br/>Please do not 
 edit this section.<br/>-::~:~::~:~:~:~:~:~:~:~:~:~:~:~:~:~:~:~:~:~:~:~:~:~:
 ~:~:~:~:~:~:~:~:~:~:~:~:~:~::~:~::-
DTSTAMP:20260425T154845
DTSTART:20230911T160000
DTEND:20230911T173000
SEQUENCE:0
RRULE:FREQ=WEEKLY;UNTIL=20291213T000000Z;INTERVAL=1
TRANSP:OPAQUE
END:VEVENT
END:VCALENDAR