BEGIN:VCALENDAR
VERSION:2.0
PRODID:-//jEvents 2.0 for Joomla//EN
CALSCALE:GREGORIAN
METHOD:PUBLISH
BEGIN:VEVENT
UID:745b15344437316fbd5b3adab2324ddb
CATEGORIES:Gemeindehaus "Probstei"
CREATED:20240411T091051
SUMMARY:Seniorentag
DESCRIPTION:
DTSTAMP:20260426T005603
DTSTART;VALUE=DATE:20271205
DTEND;VALUE=DATE:20271206
SEQUENCE:0
TRANSP:OPAQUE
END:VEVENT
END:VCALENDAR