BEGIN:VCALENDAR
VERSION:2.0
PRODID:-//jEvents 2.0 for Joomla//EN
CALSCALE:GREGORIAN
METHOD:PUBLISH
BEGIN:VEVENT
UID:ce373f4c397eebc968268e9094a9a3c4
CATEGORIES:Gemeindehaus "Probstei"
CREATED:20250216T165828
SUMMARY:Kommunionfeier 572028
DESCRIPTION:
DTSTAMP:20260425T172510
DTSTART;VALUE=DATE:20260411
DTEND;VALUE=DATE:20260414
SEQUENCE:0
TRANSP:OPAQUE
END:VEVENT
END:VCALENDAR