BEGIN:VCALENDAR
VERSION:2.0
PRODID:-//jEvents 2.0 for Joomla//EN
CALSCALE:GREGORIAN
METHOD:PUBLISH
BEGIN:VEVENT
UID:dc93bdbe85a4bfbdbde54a50fe6f8f8b
CATEGORIES:Gemeindehaus "Probstei"
CREATED:20250511T195611
SUMMARY:Kommunionfeier 597810
DESCRIPTION:
DTSTAMP:20260425T174726
DTSTART;VALUE=DATE:20260426
DTEND;VALUE=DATE:20260427
SEQUENCE:0
TRANSP:OPAQUE
END:VEVENT
END:VCALENDAR