BEGIN:VCALENDAR
VERSION:2.0
PRODID:-//jEvents 2.0 for Joomla//EN
CALSCALE:GREGORIAN
METHOD:PUBLISH
BEGIN:VEVENT
UID:a8351df678d01fc848ed74936873084b
CATEGORIES:Dorfplatz
CREATED:20251111T125826
SUMMARY:Hochzeitsfeier 5XXXXX
DESCRIPTION:
DTSTAMP:20260426T005538
DTSTART;VALUE=DATE:20260522
DTEND;VALUE=DATE:20260523
SEQUENCE:0
TRANSP:OPAQUE
END:VEVENT
END:VCALENDAR