BEGIN:VCALENDAR
VERSION:2.0
PRODID:-//jEvents 2.0 for Joomla//EN
CALSCALE:GREGORIAN
METHOD:PUBLISH
BEGIN:VEVENT
UID:5d74a56f443dbfc75d1a348d8572dc5a
CATEGORIES:Gemeindehaus "Probstei"
CREATED:20251231T112859
SUMMARY:Geburtstagsfeier 665526
DESCRIPTION:
DTSTAMP:20260425T234322
DTSTART;VALUE=DATE:20270710
DTEND;VALUE=DATE:20270711
SEQUENCE:0
TRANSP:OPAQUE
END:VEVENT
END:VCALENDAR