BEGIN:VCALENDAR
VERSION:2.0
PRODID:-//jEvents 2.0 for Joomla//EN
CALSCALE:GREGORIAN
METHOD:PUBLISH
BEGIN:VEVENT
UID:0ab0622c9c88dde7343033a1a982aad4
CATEGORIES:Gemeindehaus "Probstei"
CREATED:20260309T110935
SUMMARY:Jagdgenossenschaftsversammlung
DESCRIPTION:
DTSTAMP:20260425T213615
DTSTART;VALUE=DATE:20260327
DTEND;VALUE=DATE:20260328
SEQUENCE:0
TRANSP:OPAQUE
END:VEVENT
END:VCALENDAR