BEGIN:VCALENDAR
VERSION:2.0
PRODID:-//jEvents 2.0 for Joomla//EN
CALSCALE:GREGORIAN
METHOD:PUBLISH
BEGIN:VEVENT
UID:f40df17c1c8c635951956bc64d4a5d74
CATEGORIES:Gemeindehaus "Probstei"
CREATED:20260312T144354
SUMMARY:Umwelttag
DESCRIPTION:
DTSTAMP:20260425T213616
DTSTART;VALUE=DATE:20260328
DTEND;VALUE=DATE:20260329
SEQUENCE:0
TRANSP:OPAQUE
END:VEVENT
END:VCALENDAR