BEGIN:VCALENDAR
VERSION:2.0
PRODID:-//jEvents 2.0 for Joomla//EN
CALSCALE:GREGORIAN
METHOD:PUBLISH
BEGIN:VEVENT
UID:3a50bb195c0d0aa38f2f4131ec3fce1e
CATEGORIES:Gemeindehaus "Probstei"
CREATED:20260324T103232
SUMMARY:Geburtstagsfeier 691083
DESCRIPTION:
DTSTAMP:20260425T213616
DTSTART;VALUE=DATE:20260330
DTEND;VALUE=DATE:20260331
SEQUENCE:0
TRANSP:OPAQUE
END:VEVENT
END:VCALENDAR