BEGIN:VCALENDAR
VERSION:2.0
PRODID:-//jEvents 2.0 for Joomla//EN
CALSCALE:GREGORIAN
METHOD:PUBLISH
BEGIN:VEVENT
UID:084acb3bf9f57ca5b5599e05bc44f473
CATEGORIES:Dorfplatz
CREATED:20260324T163258
SUMMARY:Grundschule Hambuch,Klasse 2 691150
DESCRIPTION:
DTSTAMP:20260425T125351
DTSTART:20260618T080000
DTEND:20260618T170000
SEQUENCE:0
TRANSP:OPAQUE
END:VEVENT
END:VCALENDAR