BEGIN:VCALENDAR
VERSION:2.0
PRODID:-//jEvents 2.0 for Joomla//EN
CALSCALE:GREGORIAN
METHOD:PUBLISH
BEGIN:VEVENT
UID:d3a832d01e0b2591a5d44bb6377ccfb4
CATEGORIES:Gemeindehaus "Probstei"
CREATED:20260329T150727
SUMMARY:Jahreshauptversammlung HKG
DESCRIPTION:
DTSTAMP:20260425T123231
DTSTART:20260414T170000
DTEND:20260414T210000
SEQUENCE:0
TRANSP:OPAQUE
END:VEVENT
END:VCALENDAR