BEGIN:VCALENDAR
VERSION:2.0
PRODID:-//jEvents 2.0 for Joomla//EN
CALSCALE:GREGORIAN
METHOD:PUBLISH
BEGIN:VEVENT
UID:25d67da2b733b1eb16859c5c4dadc038
CATEGORIES:Gemeindehaus "Probstei"
CREATED:20260401T123328
SUMMARY:Beerdigungskaffee 693815
DESCRIPTION:
DTSTAMP:20260425T143228
DTSTART;VALUE=DATE:20260410
DTEND;VALUE=DATE:20260411
SEQUENCE:0
TRANSP:OPAQUE
END:VEVENT
END:VCALENDAR