BEGIN:VCALENDAR
VERSION:2.0
PRODID:-//jEvents 2.0 for Joomla//EN
CALSCALE:GREGORIAN
METHOD:PUBLISH
BEGIN:VEVENT
UID:5sgi7llf5d937ene1p4j1uhl8f@google.com
CATEGORIES:Gemeindehaus "Probstei"
CREATED:20230911T073341
SUMMARY:Kirchenchor Probe
DESCRIPTION:-::~:~::~:~:~:~:~:~:~:~:~:~:~:~:~:~:~:~:~:~:~:~:~:~:~:~:~:~:~:~:~:~:~:~:~:~
 :~:~::~:~::-<br/>Join with Google Meet: <a href="https://meet.google.com/bx
 s-cupf-zty">https://meet.google.com/bxs-cupf-zty</a><br/><br/>Learn more ab
 out Meet at: <a href="https://support.google.com/a/users/answer/9282720">ht
 tps://support.google.com/a/users/answer/9282720</a><br/><br/>Please do not 
 edit this section.<br/>-::~:~::~:~:~:~:~:~:~:~:~:~:~:~:~:~:~:~:~:~:~:~:~:~:
 ~:~:~:~:~:~:~:~:~:~:~:~:~:~::~:~::-
DTSTAMP:20260425T135844
DTSTART:20260416T170000
DTEND:20260416T200000
SEQUENCE:0
TRANSP:OPAQUE
END:VEVENT
END:VCALENDAR