BEGIN:VCALENDAR
VERSION:2.0
PRODID:-//jEvents 2.0 for Joomla//EN
CALSCALE:GREGORIAN
METHOD:PUBLISH
BEGIN:VEVENT
UID:6s054pdjlms44njp3et203q7fl_R20191105T180000@google.com
CATEGORIES:Gemeindehaus "Probstei"
CREATED:20230911T073342
SUMMARY:Gelber Raum: Gemeinderatssitzung
LOCATION:Gelber Raum: Gemeinderatssitzung
DESCRIPTION:Monatliche Gemeinderatssitzung
DTSTAMP:20260425T130146
DTSTART:20260505T170000
DTEND:20260505T210000
SEQUENCE:0
TRANSP:OPAQUE
END:VEVENT
END:VCALENDAR