BEGIN:VCALENDAR
VERSION:2.0
PRODID:-//jEvents 2.0 for Joomla//EN
CALSCALE:GREGORIAN
METHOD:PUBLISH
BEGIN:VEVENT
UID:4u27t1nisabf5b89omuk52ia91@google.com
CATEGORIES:Gemeindehaus "Probstei"
CREATED:20230911T073343
SUMMARY:Ton Art Probe 
LOCATION:Roter Raum
DESCRIPTION:
DTSTAMP:20260425T110912
DTSTART:20260422T170000
DTEND:20260422T190000
SEQUENCE:0
TRANSP:OPAQUE
END:VEVENT
END:VCALENDAR