BEGIN:VCALENDAR
VERSION:2.0
PRODID:-//jEvents 2.0 for Joomla//EN
CALSCALE:GREGORIAN
METHOD:PUBLISH
BEGIN:VEVENT
UID:40j5rhjblq5lsj67ueobjlhluh@google.com
CATEGORIES:Gemeindehaus "Probstei"
CREATED:20230911T073346
SUMMARY:DA,   Nähen mit Sabine
LOCATION:Gelber Raum
DESCRIPTION:DA,  Nähen mit Sabine  alle 14 Tage
DTSTAMP:20260425T111245
DTSTART:20260429T160000
DTEND:20260429T200000
SEQUENCE:0
TRANSP:OPAQUE
END:VEVENT
END:VCALENDAR