BEGIN:VCALENDAR
VERSION:2.0
PRODID:-//jEvents 2.0 for Joomla//EN
CALSCALE:GREGORIAN
METHOD:PUBLISH
BEGIN:VEVENT
UID:5ulrvsap7janqtp5u0li0h0i9c@google.com
CATEGORIES:Gemeindehaus "Probstei"
CREATED:20240118T081928
SUMMARY:HKV Männerbalett Probe
DESCRIPTION:Roter Raum   Ansprechpartner : Diana Minden<br/><br/>-::~:~::~:~:~:~:~:~:~:
 ~:~:~:~:~:~:~:~:~:~:~:~:~:~:~:~:~:~:~:~:~:~:~:~:~:~:~:~:~::~:~::-<br/>Join 
 with Google Meet: <a href="https://meet.google.com/grz-dgmw-rbj">https://me
 et.google.com/grz-dgmw-rbj</a><br/><br/>Learn more about Meet at: <a href="
 https://support.google.com/a/users/answer/9282720">https://support.google.c
 om/a/users/answer/9282720</a><br/><br/>Please do not edit this section.<br/
 >-::~:~::~:~:~:~:~:~:~:~:~:~:~:~:~:~:~:~:~:~:~:~:~:~:~:~:~:~:~:~:~:~:~:~:~:
 ~:~:~::~:~::-
DTSTAMP:20260425T160233
DTSTART:20260608T150000
DTEND:20260608T160000
SEQUENCE:0
TRANSP:OPAQUE
END:VEVENT
END:VCALENDAR