BEGIN:VCALENDAR
VERSION:2.0
PRODID:-//jEvents 2.0 for Joomla//EN
CALSCALE:GREGORIAN
METHOD:PUBLISH
BEGIN:VEVENT
UID:3qboanfs313sa3fo0lq1q368qk@google.com
CATEGORIES:Gemeindehaus "Probstei"
CREATED:20230911T073341
SUMMARY:Spielmanszug
LOCATION:Roter Raum
DESCRIPTION:Lt. Ralf Hetger  Termin Dienstag soll reserviert werden 16.4.22\n\n-::~:~::
 ~:~:~:~:~:~:~:~:~:~:~:~:~:~:~:~:~:~:~:~:~:~:~:~:~:~:~:~:~:~:~:~:~:~:~:~::~:
 ~::-\nJoin with Google Meet: https://meet.google.com/hfi-yswk-ztd (https://
 meet.google.com/hfi-yswk-ztd)\n\nLearn more about Meet at: https://support.
 google.com/a/users/answer/9282720 (https://support.google.com/a/users/answe
 r/9282720)\n\nPlease do not edit this section.\n-::~:~::~:~:~:~:~:~:~:~:~:~
 :~:~:~:~:~:~:~:~:~:~:~:~:~:~:~:~:~:~:~:~:~:~:~:~:~:~::~:~::-
X-ALT-DESC;FMTTYPE=text/html:Lt. Ralf Hetger  Termin Dienstag soll reserviert werden 16.4.22<br/><br/>-:
 :~:~::~:~:~:~:~:~:~:~:~:~:~:~:~:~:~:~:~:~:~:~:~:~:~:~:~:~:~:~:~:~:~:~:~:~:~
 :~::~:~::-<br/>Join with Google Meet: <a href="https://meet.google.com/hfi-
 yswk-ztd">https://meet.google.com/hfi-yswk-ztd</a><br/><br/>Learn more abou
 t Meet at: <a href="https://support.google.com/a/users/answer/9282720">http
 s://support.google.com/a/users/answer/9282720</a><br/><br/>Please do not ed
 it this section.<br/>-::~:~::~:~:~:~:~:~:~:~:~:~:~:~:~:~:~:~:~:~:~:~:~:~:~:
 ~:~:~:~:~:~:~:~:~:~:~:~:~::~:~::-
DTSTAMP:20260425T140620
DTSTART:20260421T160000
DTEND:20260421T183000
SEQUENCE:1
TRANSP:OPAQUE
END:VEVENT
END:VCALENDAR